BEGIN:VCALENDAR
VERSION:2.0
PRODID:-//Tukios.com/
BEGIN:VEVENT
UID:f7bb7b1f-7177-4ad8-aa74-8e3638b399e8@www.jenningscalvey.com
DTSTAMP:20260424T203806Z
DTSTART:20260501T210000Z
DTEND:20260501T230000Z
SUMMARY:Viewing
DESCRIPTION:
URL:https://www.jenningscalvey.com/obituaries/doloris-urban
LOCATION: 111 Colburn Ave  Clarks Summit PA 18411
GEO:41.4954509;-75.7039874
END:VEVENT
END:VCALENDAR