BEGIN:VCALENDAR
VERSION:2.0
PRODID:-//Tukios.com/
BEGIN:VEVENT
UID:c9004a9d-7a02-4d03-84ca-1393f85d9491@www.jenningscalvey.com
DTSTAMP:20260424T204004Z
DTSTART:20260502T140000Z
DTEND:20260502T150000Z
SUMMARY:Mass
DESCRIPTION:
URL:https://www.jenningscalvey.com/obituaries/doloris-urban
LOCATION: 301 S State St  Clarks Summit PA 18411
GEO:41.494367;-75.702393
END:VEVENT
END:VCALENDAR