BEGIN:VCALENDAR
VERSION:2.0
PRODID:-//Tukios.com/
BEGIN:VEVENT
UID:ad196c9c-89a4-4ab3-8972-ef8e7a60cdae@www.jenningscalvey.com
DTSTAMP:20260424T203749Z
DTSTART:20260502T153000Z
DTEND:20260502T160000Z
SUMMARY:Burial
DESCRIPTION:
URL:https://www.jenningscalvey.com/obituaries/doloris-urban
LOCATION:Clarks Green Cemetery Mike Balko 119 Vosburg Lane  Clarks Summit 
	PA 18411
GEO:41.483511;-75.7139111
END:VEVENT
END:VCALENDAR